BEGIN:VCALENDAR
VERSION:2.0
PRODID:-//Automotive Engineering Network - ECPv6.15.20//NONSGML v1.0//EN
CALSCALE:GREGORIAN
METHOD:PUBLISH
X-ORIGINAL-URL:https://ae-network.de
X-WR-CALDESC:Veranstaltungen für Automotive Engineering Network
REFRESH-INTERVAL;VALUE=DURATION:PT1H
X-Robots-Tag:noindex
X-PUBLISHED-TTL:PT1H
BEGIN:VTIMEZONE
TZID:Europe/Berlin
BEGIN:DAYLIGHT
TZOFFSETFROM:+0100
TZOFFSETTO:+0200
TZNAME:CEST
DTSTART:20230326T010000
END:DAYLIGHT
BEGIN:STANDARD
TZOFFSETFROM:+0200
TZOFFSETTO:+0100
TZNAME:CET
DTSTART:20231029T010000
END:STANDARD
BEGIN:DAYLIGHT
TZOFFSETFROM:+0100
TZOFFSETTO:+0200
TZNAME:CEST
DTSTART:20240331T010000
END:DAYLIGHT
BEGIN:STANDARD
TZOFFSETFROM:+0200
TZOFFSETTO:+0100
TZNAME:CET
DTSTART:20241027T010000
END:STANDARD
BEGIN:DAYLIGHT
TZOFFSETFROM:+0100
TZOFFSETTO:+0200
TZNAME:CEST
DTSTART:20250330T010000
END:DAYLIGHT
BEGIN:STANDARD
TZOFFSETFROM:+0200
TZOFFSETTO:+0100
TZNAME:CET
DTSTART:20251026T010000
END:STANDARD
END:VTIMEZONE
BEGIN:VEVENT
DTSTART;VALUE=DATE:20240503
DTEND;VALUE=DATE:20240504
DTSTAMP:20260423T061900
CREATED:20240115T105747Z
LAST-MODIFIED:20240115T105747Z
UID:11875-1714694400-1714780799@ae-network.de
SUMMARY:3. Fußverkehrskonferenz Baden-Württemberg
DESCRIPTION:Die Konferenz des Ministeriums für Verkehr Baden-Württemberg „Zukunftswege gestalten“ findet am 3. Mai 2024 in Ulm statt. \n„Bei der 3. Fußverkehrskonferenz des Landes Baden-Württemberg erwarten Sie informative Vorträge\, interessante Diskussionen und die Möglichkeit\, sich mit anderen Teilnehmenden auszutauschen und zu vernetzen. Die Teilnahme an der Veranstaltung ist kostenfrei.“ \n  \nWeitere Informationen finden Sie unter: https://www.aktivmobil-bw.de/aktuelles/veranstaltungen/detail/save-the-date-3-fussverkehrskonferenz-baden-wuerttemberg/vom/3/5/2024/
URL:https://ae-network.de/event/3-fussverkehrskonferenz-baden-wuerttemberg/
LOCATION:Ulm
CATEGORIES:Extern
END:VEVENT
BEGIN:VEVENT
DTSTART;VALUE=DATE:20240514
DTEND;VALUE=DATE:20240517
DTSTAMP:20260423T061900
CREATED:20240115T081831Z
LAST-MODIFIED:20240115T081831Z
UID:11650-1715644800-1715903999@ae-network.de
SUMMARY:IT-TRANS - Internationale Konferenz und Fachmesse
DESCRIPTION:„Die IT-TRANS ist die führende internationale Fachmesse und Konferenz\, die sich auf die Digitalisierung und intelligente Lösungen für den öffentlichen Verkehr spezialisiert hat. \nLernen Sie und tauschen Sie sich mit Ihren Kollegen aus der ganzen Welt über Themen wie KI\, Bezahlung und Ticketing\, Cybersecurity\, Data Governance und vieles mehr aus. \nUITP – The International Association of Public Transport und die Messe Karlsruhe bringen seit 2008 die internationale ÖPNV-Community in Karlsruhe zu dieser einzigartigen Veranstaltung zusammen. \nMachen Sie sich bereit für die Zukunft. Besuchen Sie uns vom 14. bis 16. Mai 2024 in der Messe Karlsruhe\, Deutschland.“ \n\n  \nWeitere Informationen finden Sie unter: https://www.it-trans.org/de/
URL:https://ae-network.de/event/it-trans-internationale-konferenz-und-fachmesse/
LOCATION:Messe Karlsruhe\, Messeallee 1\, Rheinstetten\, 76287\, Deutschland
CATEGORIES:Extern
END:VEVENT
BEGIN:VEVENT
DTSTART;TZID=Europe/Berlin:20240515T100000
DTEND;TZID=Europe/Berlin:20240515T123000
DTSTAMP:20260423T061900
CREATED:20240115T081818Z
LAST-MODIFIED:20240115T081818Z
UID:11655-1715767200-1715776200@ae-network.de
SUMMARY:Future Mobility Award 2024
DESCRIPTION:– SAVE THE DATE – \nThe intention of the Future Mobility Award is to honor sustainable mobility solutions. The aim is to give start-ups the chance to present themselves and make their ideas and solutions for the transport sector visible as well as to establish a competition which will take place at regular intervals. \nThe award is presented by Messe Karlsruhe\, aen – automotive. engineering. network e.V. and Nahverkehrs-praxis/Fachverlag Dr. H. Arnold GmbH. \n 
URL:https://ae-network.de/event/future-mobility-award-2024/
LOCATION:Messe Karlsruhe\, Messeallee 1\, Rheinstetten\, 76287\, Deutschland
CATEGORIES:FMA
END:VEVENT
BEGIN:VEVENT
DTSTART;TZID=Europe/Berlin:20240515T130000
DTEND;TZID=Europe/Berlin:20240515T133000
DTSTAMP:20260423T061900
CREATED:20240430T124509Z
LAST-MODIFIED:20240430T124509Z
UID:13074-1715778000-1715779800@ae-network.de
SUMMARY:Cloud & IT Services aus der Region Karlsruhe
DESCRIPTION:Cloud & IT Services aus der Region Karlsruhe \nEnergy4U digital Mittagstalk \n15.05.24 um 13:00 – 13:30 Uhr per Zoom \nDie TelemaxX Telekommunikation GmbH ist der regionale IT-Dienstleister für maßgeschneiderte Lösungen in den Bereichen Rechenzentrum\, IT-Services und Telekommunikation aus Karlsruhe. Sie betreiben 5 Hochsicherheits-Rechenzentren (Datacenter) und ein Glasfasernetz in der Technologieregion Karlsruhe. \nDie aktuellen Herausforderungen für Rechenzentren\, insbesondere in Bezug auf Sicherheit\, Energieeffizienz und Skalierbarkeit sind von großer Bedeutung. \nIm Mittagstalk am 15.05.24 wird Herr Wojtek zu Gast sein und kurz die Erfolgsgeschichte der TelemaxX beleuchten. Im interaktiven Gespräch haben Sie die Möglichkeit\, sich mit Ihren Fragen mit einzubringen\, wenn er über aktuelle Herausforderungen in der Branche spricht und aufzeigt\, was IT-Service Lösungen wie z.B. die Cloud bieten können. Gemeinsam werfen wir noch einen Blick auf die Mitgliedschaft in der Klimaallianz Karlsruhe und erläutern deren Bedeutung. Melden Sie sich an für einen informativen Mittagstalk rund um die Welt der TelemaxX. \nHier geht’s zur Anmeldung \nDie monatliche Veranstaltungsreihe Energy4U digital ist ein Mittagstalk zu aktuellen Themen im Energiebereich. \nOrganisiert von Andrea Bühler\, Clustermanagerin bei der Wirtschaftsförderung Karlsruhe und moderiert von Dr. Klaus Reichert\, Innovationscoach. Weitere energy4u Mittagstalks sind jeweils am 2. Mittwoch des Monats.
URL:https://ae-network.de/event/cloud-it-services-aus-der-region-karlsruhe/
LOCATION:Online
END:VEVENT
BEGIN:VEVENT
DTSTART;VALUE=DATE:20240522
DTEND;VALUE=DATE:20240525
DTSTAMP:20260423T061900
CREATED:20240115T081807Z
LAST-MODIFIED:20240115T081807Z
UID:11660-1716336000-1716595199@ae-network.de
SUMMARY:polisMOBILITY expo & conference
DESCRIPTION:„Die polisMOBILITY expo & conference ist das vernetzte\, internationale Event zur Zukunft von Mobilität und urbanem Leben. Innovativ\, lebendig und inspirierend. Sie findet vom 22. bis zum 24. Mai 2024 auf dem Kölner Messegelände statt. Das Messe-Event versteht sich als Dialogplattform für alle Player der urbanen Mobilität. \nMit ihrem ungewöhnlichen Veranstaltungskonzept geht die polisMOBILITY expo & conference neue Wege: nicht die Darstellung der Produkte steht im Vordergrund\, sondern der Austausch über nachhaltige Mobilitätslösungen. \nEine tragende Funktion spielt in diesem Zusammenhang die   polisMOBILITY Konferenz. Die interdisziplinäre Konferenz geht insbesondere auf Strategien und Lösungen zukünftiger Mobilitäts-Ökosysteme ein. Der strategische Fokus liegt darin\, den Austausch zwischen Industrie und Kommunen (B2G) sowie der Wirtschaftsunternehmen untereinander (B2B) zu gewährleisten. \nUnsere   Partner  aus privater und öffentlicher Hand stehen genau wie die Koelnmesse für einen Mobilitätswandel\, der durch Innovationen und branchenübergreifender Lösungsansätze geprägt ist. Zeitgleich mit der polisMOBILITY findet im Kongresszentrum Ost der Koelnmesse die Hauptversammlung des Deutschen Städtetages statt.“ \n  \nWeitere Informationen finden Sie unter: https://www.polis-mobility.de/die-messe/polismobility/
URL:https://ae-network.de/event/polismobility-expo-conference/
LOCATION:Koelnmesse\, Messeplatz 1\, Köln\, 50679\, Deutschland
CATEGORIES:Extern
END:VEVENT
END:VCALENDAR