BEGIN:VCALENDAR
VERSION:2.0
PRODID:-//Automotive Engineering Network - ECPv6.15.20//NONSGML v1.0//EN
CALSCALE:GREGORIAN
METHOD:PUBLISH
X-ORIGINAL-URL:https://ae-network.de
X-WR-CALDESC:Veranstaltungen für Automotive Engineering Network
REFRESH-INTERVAL;VALUE=DURATION:PT1H
X-Robots-Tag:noindex
X-PUBLISHED-TTL:PT1H
BEGIN:VTIMEZONE
TZID:Europe/Berlin
BEGIN:DAYLIGHT
TZOFFSETFROM:+0100
TZOFFSETTO:+0200
TZNAME:CEST
DTSTART:20230326T010000
END:DAYLIGHT
BEGIN:STANDARD
TZOFFSETFROM:+0200
TZOFFSETTO:+0100
TZNAME:CET
DTSTART:20231029T010000
END:STANDARD
BEGIN:DAYLIGHT
TZOFFSETFROM:+0100
TZOFFSETTO:+0200
TZNAME:CEST
DTSTART:20240331T010000
END:DAYLIGHT
BEGIN:STANDARD
TZOFFSETFROM:+0200
TZOFFSETTO:+0100
TZNAME:CET
DTSTART:20241027T010000
END:STANDARD
BEGIN:DAYLIGHT
TZOFFSETFROM:+0100
TZOFFSETTO:+0200
TZNAME:CEST
DTSTART:20250330T010000
END:DAYLIGHT
BEGIN:STANDARD
TZOFFSETFROM:+0200
TZOFFSETTO:+0100
TZNAME:CET
DTSTART:20251026T010000
END:STANDARD
END:VTIMEZONE
BEGIN:VEVENT
DTSTART;TZID=Europe/Berlin:20240710T083000
DTEND;TZID=Europe/Berlin:20240710T120000
DTSTAMP:20260423T024654
CREATED:20240115T081740Z
LAST-MODIFIED:20240115T081740Z
UID:11773-1720600200-1720612800@ae-network.de
SUMMARY:Transformation Mittelstand in der Automobilindustrie - mittels KI
DESCRIPTION:– SAVE THE DATE –
URL:https://ae-network.de/event/transformation-mittelstand-in-der-automobilindustrie-mittels-ki-2/
LOCATION:FUX\, Alter Schlachthof 33\, Karlsruhe\, Baden-Württemberg\, 76131\, Deutschland
CATEGORIES:KI
ORGANIZER;CN="AEN":MAILTO:office@ae-network.de
END:VEVENT
BEGIN:VEVENT
DTSTART;TZID=Europe/Berlin:20240716T090000
DTEND;TZID=Europe/Berlin:20240716T120000
DTSTAMP:20260423T024654
CREATED:20240603T093927Z
LAST-MODIFIED:20240603T093927Z
UID:13229-1721120400-1721131200@ae-network.de
SUMMARY:Transformation regionale Automobilwirtschaft
DESCRIPTION:  \nBusiness Frühstück \nTransformation regionale Automobilwirtschaft \nEnergiekosten im industriellen Mittelstand \n  \nDas automotive engineering network e.V.\, die Stadt Rastatt und die TRK GmbH laden Sie am 16. Juli 2024 zum nächsten Business Frühstück nach Kuppenheim ein. Freuen Sie sich auf spannende Vorträge zum Thema Energiekosten im industriellen Mittelstand. Dabei werden Themen wie der CO²-Fußabdruck\, Angebote der Stadtwerke Rastatt zum Energiekostenmanagement für Gewerbe und Industrie sowie Empfehlungen zur Senkung der Energiekosten durch nachhaltiges Bauen behandelt. \n  \nHier geht es zur Anmeldung: https://eveeno.com/259710028
URL:https://ae-network.de/event/transformation-regionale-automobilwirtschaft/
LOCATION:Veranstaltungshalle Kuppenheim\, Badstr. 2\, Kuppenheim\, 76456\, Deutschland
END:VEVENT
BEGIN:VEVENT
DTSTART;TZID=Europe/Berlin:20240717T093000
DTEND;TZID=Europe/Berlin:20240717T163000
DTSTAMP:20260423T024654
CREATED:20240618T111402Z
LAST-MODIFIED:20240708T065020Z
UID:13368-1721208600-1721233800@ae-network.de
SUMMARY:India Business Day
DESCRIPTION:Am 17. Juli 2024 organisiert das India Board gemeinsam mit der IHK Karlsruhe zum Auftakt der India Summer Days einen Wirtschaftstag mit dem Titel: „Indien im Wandel – Chancen für die Zukunft“. Hierzu lädt Sie Karlsruhes Oberbürgermeister Dr. Frank Mentrup herzlich ein.  \nAnmeldung unter https://veranstaltungen.karlsruhe.ihk.de/indien-240717 \nBis zum Indien Tag finden Sie auf der neugestalteten Webseite des India Boards aktuelle Informationen unter: https://india-karlsruhe.com/news-events/events/india-in-transition-opportunities-for-the-future/\noder sie vernetzen sich mit dem India Board auf LinkedIn: https://www.linkedin.com/in/india-board-21a29a2b4/ \n  \n  \n🚀 Indien im Wandel – Chancen für die Zukunft \n🌐 Datum: Juli 17\, 2024 \n⏰ Uhrzeit: 9:30 Uhr – 16:30 Uhr \n📍 Ort: IHK Karlsruhe\, Lammstraße 13-17\, 76133 Karlsruhe \nInformieren Sie sich auf dem Wirtschaftstag der Stadt Karlsruhe und der IHK Karlsruhe über Ihre Chancen auf dem indischen Subkontinent! Experten und Unternehmer berichten über Ihre Erfahrungen und geben Tipps zum Markteinstieg\, Export\, rechtlichen und steuerlichen Rahmenbedingungen sowie zum erfolgreichen Umgang mit indischen Geschäftspartnern. \nWir freuen uns auf Ihre Teilnahme! \n  \n📊 Indien’s Wirtschaft: \nIndiens Wirtschaft soll auch im laufenden Jahr auf Wachstumskurs bleiben\, das macht sich auch auf den bilateralen Warenhandel mit Deutschland bemerkbar. So hat laut Angaben des Statistischen Bundesamtes Destatis der bilaterale Warenhandel zwischen der Bundesrepublik und Indien im Jahr 2023 den Rekordwert aus dem Vorjahr übertroffen. Das Handelsvolumen stieg um 5 Prozent im Vergleich zu 2022 und betrug 33 Milliarden US-Dollar (US$). \n  \nProgramm: \n09:30 Uhr: Begrüßung  \n– Wolfgang Grenke\, Präsident der IHK Karlsruhe \n– Dr. Florian Stegmann\, Staatsminister und Chef der Staatskanzlei \n– Mohit Yadav\, Generalkonsul der Republik Indien in München (tbc) \n10:30 Uhr:  Einführungsrunde – Warum Indien? \n– Andreas Lapp\, Honorarkonsul der Republik Indien  (tbc) \n– Dr. Frank Mentrup\, Oberbürgermeister der Stadt Karlsruhe \n– Dietmar Späth\, Oberbürgermeister der Stadt Baden-Baden \n– Cornelia Paetzold-Schick\, Oberbürgermeisterin der Stadt Bruchsal \n11:00 Uhr: Indien – was Wissen wir? Von der Gita über Tagore bis Anand \n– Prof. Dr. Manuel Vermeer\, ist Senior Advisor und Honorarprofessor für Asienstudien (China und Indien) an der PFH Göttingen. Als Halb-Deutscher\, Halb-Inder versteht und kennt er beide Kulturkreise bestens und gibt Ihnen interkulturelle Hinweise sowie Tipps für die Geschäftspraxis in Indien. \n11:45 Uhr: Blitzlicht 1 – Markteinstieg in Indien \n– Dirk Matter\, Geschäftsführer der Deutsch-Indischen Außenhandelskammer (AHK) in Düsseldorf\, informiert Sie über aktuelle Chancen und Herausforderungen im Indiengeschäft. \nDie AHK Indien ist der erste Ansprechpartner für deutsche und indische Unternehmen\, die mit dem jeweils anderen Land Geschäfte machen möchten. \n12:00 Uhr:  Technologie in Indien  \n– Dr. Anamika Datta verfügt über 10 Jahre Erfahrung in der eCommerce-Branche in Indien und Europa in Unternehmen wie Amazon\, Zalando\, Flipkart bis hin zu Start-Ups. Sie hat in Branchen von Mode über Medizintechnik bis hin zu Immobilien und Bildung als Site Merchandiser\, Marketing Manager und Produktentwickler gearbeitet.\nSie gibt uns Einblicke in die aktuellen technologischen Entwicklungen in Indien. \n12:30 Uhr: Blitzlicht 2 – Export nach Indien und BIS-Zertifizierung \n– Gabriele Borchard\, Referentin für Indien bei der IHK Rhein-Neckar\, informiert Sie über die Einfuhrbestimmungen in Indien und was Sie beim Export von Waren nach Indien alles beachten müssen. \nDie IHK Rhein-Neckar unterstützt mit ihrem Indien Kompetenzzentrum baden-württembergische Unternehmen\, auf dem indischen Markt Fuß zu fassen. \n12:45 Uhr: Mittagessen \n13:30 Uhr: Unternehmens-Panel  \n– Patrick Seitz\, Geschäftsführer der aluplast GmbH\, berichtet über die fast 20-jährige Erfolgsgeschichte des Unternehmens in Indien\, vom Markteinstieg bis zur Ausweitung ihrer Produktions- und Lagerkapazitäten. \n– Friedemann Edel\,  Head of Legal Affairs und Compliance des Global HQ der GMT Gummi-Metall-Technik GmbH\, hat über 10 Jahre den indischen Produktionsstandort der GMT geleitet und betreut ihn nun als Mitglied des Vorstands / Member of the Board of Directors. \n– Timur Kücük\, Leiter des Competence Center und Solution Consultant bei der Industrial Application Software (IAS)\, berichtet über ihre Niederlassung und die Zusammenarbeit mit indischen IT-Spezialisten. \n14:30 Uhr: Blitzlicht 3 – Recht und Steuern in Indien \n– Karsten Echle\, Finanz- und Rechtsexperte bei Dr. Wamser+ Batra GmbH\, hat als CFO erfolgreich ein deutsch-indisches Joint-Venture aufgebaut. Er informiert Sie über die steuerlichen und rechtlichen Rahmenbedingungen in Indien. \n15:15 Uhr: Die Bedeutung Indiens für die Karlsruher Hochschulen \n– Prof. Dr. Thomas Hirth Vizepräsident für Transfer und Internationale am KIT (tbc) \n– Prof. Dr. Rose Marie Beck\, Rektorin der Hochschule Karlsruhe\, diskutieren welchen Stellenwert Indien für ihre jeweilige Institution und im Allgemeinen für die Wissenschaft hat.  \n15:45 Uhr: Abschluss-Vortrag  „Der alte Westen und der neue Süden“ \n– Walther J. Lindner\, ist Jurist\, Diplomat und Musiker. In seiner Zeit als Botschafter galt er als Exot unter den Spitzendiplomaten und als „Deutschlands buntester Botschafter“. Der erfahrene Krisenmanager war im Laufe seiner Karriere unter anderem Sprecher von Joschka Fischer und Staatssekretär im Auswärtigen Amt unter Sigmar Gabriel. Zuletzt war er deutscher Botschafter in Indien.\nIn seinem aktuellen Buch „Der alte Westen und der neue Süden“ erzählt er\, wie Indien wirklich ist und was wir von Indien lernen sollten\, bevor es zu spät ist. \n  \n📌 Anmeldug: https://veranstaltungen.karlsruhe.ihk.de/indien-240717 \nWe look forward to your participation and to discovering the opportunities on the Indian subcontinent together. Join us and actively shape the future of bilateral trade between India and Germany! \n#IndiaInChange #BusinessDay #IHKKarlsruhe #IndoGermanBusiness #Networking #Karlsruhe #India #IndiaBoardKarlsruhe #Karlsruhe #TheLaend \n  \nKontakt: \n📞 Telefon: 0721 174-0 \n✉️ E-mail: info@karlsruhe.ihk.de \nIhre Ansprechpartnerin: \nRamona Leiske\, Telefon: 0721 174-440\, ramona.leiske@karlsruhe.ihk.de \n  \nKostenpflichtige Parkplätze stehen in der Tiefgarage der IHK Karlsruhe zur Verfügung \n  \n 
URL:https://ae-network.de/event/india-business-day/
LOCATION:IHK\, Karlsruhe
CATEGORIES:Extern
END:VEVENT
BEGIN:VEVENT
DTSTART;VALUE=DATE:20240719
DTEND;VALUE=DATE:20240722
DTSTAMP:20260423T024654
CREATED:20240708T070021Z
LAST-MODIFIED:20240708T070021Z
UID:13431-1721347200-1721606399@ae-network.de
SUMMARY:India Summer Days
DESCRIPTION:„Indische Kultur – mitten in Karlsruhe zu erleben \nVon Freitag bis Sonntag\, 19. bis 21. Juli 2024\, gibt es wieder im Rahmen von Süddeutschlands größtem Familienfestival DAS FEST\, indische Kultur in Form eines indischen Dorfes auf dem Gelände des Aktiv-Spielplatzes in der Günther-Klotz-Anlage Karlsruhe zu erleben. Im Mittelpunkt der vielfältigen Angebote stehen erneut Kultur\, Kulinarisches\, Mitmach-Angebote\, Musik\, Tanz\, Touristisches\, Puppenspiel\, Yoga oder Cricket sowie viele Informationsangebote auch zu Destinationen in Indien. \nAuch 2024 sind die India Summer Days – erneut unter der Schirmherrschaft von Ministerpräsident Winfried Kretschmann und in Partnerschaft mit dem Indischen Generalkonsulat in München und dem Indischen Honorarkonsulat in Stuttgart – eingebettet in die Partnerschaft zwischen Karlsruhe\, Baden-Württemberg und Indien. Starke Partner ermöglichen dazu die vielfältigen Angebote: „Indien aktuell„\, die Deutsch-Indische Gesellschaft e.V. in Karlsruhe\, das „India Board Karlsruhe“ oder auch das „Narsee Monjee Institute of Management Studies“ in Mumbai. Durch die Partner existiert eine langjährige aktive und gelebte Kooperation zwischen Karlsruhe und Indien\, zwischen Baden-Württemberg und Maharashtra\, die Kontakte und wirtschaftlichen Austausch in beide Richtungen bündelt. Durch das engagierte Netzwerk lässt sich Indien in Karlsruhe aber auch kulturell in vielen Bereichen präsentieren – ob durch Musik\, Tanz\, Handwerkskunst\, Genuss\, Yoga oder eben auch als Reiseziel. \nIndia Summer Days – Social Media \nKleiner Tipp: Folgen Sie uns doch auch auf Facebook (www.facebook.com/isdkarlsruhe) und Instagram (www.instagram.com/indiasummerdays): Dort haben wir dann auch aktuelle Infos und Bilder rund um das Festival – auch mit Interviews und Eindrücken aus dem Backstage-Bereich.“ \n  \nWeitere Informationen finden Sie unter www.indiasummerdays.de
URL:https://ae-network.de/event/india-summer-days/
LOCATION:Günther-Klotz-Anlage Karlsruhe
CATEGORIES:Extern
END:VEVENT
END:VCALENDAR