BEGIN:VCALENDAR
VERSION:2.0
PRODID:-//Automotive Engineering Network - ECPv6.15.20//NONSGML v1.0//EN
CALSCALE:GREGORIAN
METHOD:PUBLISH
X-ORIGINAL-URL:https://ae-network.de
X-WR-CALDESC:Veranstaltungen für Automotive Engineering Network
REFRESH-INTERVAL;VALUE=DURATION:PT1H
X-Robots-Tag:noindex
X-PUBLISHED-TTL:PT1H
BEGIN:VTIMEZONE
TZID:Europe/Berlin
BEGIN:DAYLIGHT
TZOFFSETFROM:+0100
TZOFFSETTO:+0200
TZNAME:CEST
DTSTART:20230326T010000
END:DAYLIGHT
BEGIN:STANDARD
TZOFFSETFROM:+0200
TZOFFSETTO:+0100
TZNAME:CET
DTSTART:20231029T010000
END:STANDARD
BEGIN:DAYLIGHT
TZOFFSETFROM:+0100
TZOFFSETTO:+0200
TZNAME:CEST
DTSTART:20240331T010000
END:DAYLIGHT
BEGIN:STANDARD
TZOFFSETFROM:+0200
TZOFFSETTO:+0100
TZNAME:CET
DTSTART:20241027T010000
END:STANDARD
BEGIN:DAYLIGHT
TZOFFSETFROM:+0100
TZOFFSETTO:+0200
TZNAME:CEST
DTSTART:20250330T010000
END:DAYLIGHT
BEGIN:STANDARD
TZOFFSETFROM:+0200
TZOFFSETTO:+0100
TZNAME:CET
DTSTART:20251026T010000
END:STANDARD
END:VTIMEZONE
BEGIN:VEVENT
DTSTART;VALUE=DATE:20240909
DTEND;VALUE=DATE:20240914
DTSTAMP:20260422T232152
CREATED:20240828T120047Z
LAST-MODIFIED:20240828T120047Z
UID:13756-1725840000-1726271999@ae-network.de
SUMMARY:Internationale Summer School (i3s) der Hochschule Karlsruhe
DESCRIPTION:Internationale Summer School (i3s) der Hochschule Karlsruhe \nVom 09. bis 13. September 2024 findet die 3. Internationale Summer School (i3s) an der Hochschule Karlsruhe statt. \nDas EnergieForum ist Partner der Internationalen Summer School (i3s) der Hochschule Karlsruhe. Diese Veranstaltung fördert unsere zukünftigen Fachkräfte\, eine Kultur der Zusammenarbeit und offenen Kommunikation. Nachhaltige Lösungen erfordern unterschiedliche Sichtweisen und Hintergründe\, weshalb Studierende aller Länder\, Geschlechter und Fachrichtungen ermutigt werden\, sich der i3s anzuschließen. Insgesamt werden 40 internationale Studierende erwartet\, die sich an lohnenden Debatten und Dialogen beteiligen. \nDas EnergieForum ist als Partner beteiligt und organisiert Referenten sowie Firmen für verschiedene Themen. Clustermanagerin Andrea Bühler wird über die Erfahrungen und Projekte des EnergieForums berichten. Folgende Themen werden mit den Studierenden und regionalen Unternehmen behandelt: \n– Nachhaltige Gesellschaften\, – Ökobilanzen\, – Biodiversität\, – Globale Erwärmung\, – Nachhaltige Kälte-\, Klima- und Wärmetechnik\,- Erneuerbare Energie\, – Wasserwirtschaft\, – Elektrofahrzeuge\, -Lithiumgewinnung aus geothermischem Wasser\, – Wasserstoff\,- Energiespeicherung\,- Teambildung\,- EU-Projekt SophiA\,- EU-Projekt PrAEctiCe \nweitere Informationen 
URL:https://ae-network.de/event/internationale-summer-school-i3s-der-hochschule-karlsruhe/
LOCATION:Hochschule Karlsruhe
CATEGORIES:Extern
END:VEVENT
BEGIN:VEVENT
DTSTART;VALUE=DATE:20240910
DTEND;VALUE=DATE:20240911
DTSTAMP:20260422T232152
CREATED:20240813T091717Z
LAST-MODIFIED:20240813T091717Z
UID:13702-1725926400-1726012799@ae-network.de
SUMMARY:e4 TESTIVAL Start-up Award 2024
DESCRIPTION:International Start-up Award ‚Transforming Mobility‘ 2024\nUnder the patronage of the Baden-Württemberg Minister of Transport and the management of JU-KNOW Heidelberg\, start-ups\, young companies and university teams will show how they are revolutionising the mobility sector – with the e4 TESTIVAL as a platform.\nApply now: https://www.e4testival.com/en/start-up-award-application/ \nAPPLICATION DEADLINE UNTIL 10 SEPTEMBER 2024 | 11:59 PM\n  \nWHO CAN APPLY?\nWe are looking for forward-looking ideas for urban and rural areas\, for passenger and freight transport\, for everyday transport and for leisure. Start-ups and young companies from the following sectors are eligible to apply: \n\nVehicles\, vehicle concepts – E-mobility\, H2\, biofuels – Two-wheelers\, electric light vehicles\, innovative cargo transport solutions\, commercial vehicles\, innovative vehicles on water and in the air\nCharging infrastructure\nBattery replacement solutions\nBatteries\, rechargeable battery\, memory\nMultimodal solutions for urban and rural areas\nServices\, apps\, digital solutions\nSharing concepts\nSolutions for converting combustion vehicles to zero-emission vehicles\nAccessories\, clothing\n\n  \nMore Information: Start-Up Award ‚Transforming Mobility‘ 2024 – e4 TESTIVAL Hockenheimring
URL:https://ae-network.de/event/e4-testival-start-up-award-2024/
END:VEVENT
BEGIN:VEVENT
DTSTART;TZID=Europe/Berlin:20240911T130000
DTEND;TZID=Europe/Berlin:20240911T133000
DTSTAMP:20260422T232152
CREATED:20240828T115359Z
LAST-MODIFIED:20240828T115359Z
UID:13743-1726059600-1726061400@ae-network.de
SUMMARY:Decarbonize Software - Energie- und Ressourceneffiziente Software für eine nachhaltige Digitalisierung
DESCRIPTION:Decarbonize Software – Energie- und Ressourceneffiziente Software für eine nachhaltige Digitalisierung \n11.09.24 um 13:00 – 13:30 Uhr per Zoom \nDie IT- und Softwarebranche hat sehr große Hebel um die Emissionen signifikant mit 40% bis 50% zu reduzieren. \nDer Geschäftsführer von Blue Hands Aydin Mir Mohammadi sagt: Als Akteure der Digitalisierung stehen wir in der Verantwortung und haben die Chance\, unser Wissen und unsere Position zu nutzen\, um diesen Trend zu stoppen und die Emissionen von Software zu minimieren. \nDenn die IT- Branche ist derzeit für rund 4% der globalen CO2-Emissionen verantwortlich. Tendenz stark steigend. \nIn diesem Talk diskutieren wir\, welche Möglichkeiten Unternehmen haben\, die Emissionen ihrer digitalen Produkte zu reduzieren\, wie man sich mit anderen Unternehmen vernetzt und gemeinsam voneinander lernt. \nHier geht’s zur Anmeldung
URL:https://ae-network.de/event/decarbonize-software-energie-und-ressourceneffiziente-software-fuer-eine-nachhaltige-digitalisierung/
LOCATION:Zoom
CATEGORIES:Extern
END:VEVENT
BEGIN:VEVENT
DTSTART;VALUE=DATE:20240916
DTEND;VALUE=DATE:20240923
DTSTAMP:20260422T232152
CREATED:20240115T095057Z
LAST-MODIFIED:20240115T095057Z
UID:11816-1726444800-1727049599@ae-network.de
SUMMARY:Mobilitätswoche
DESCRIPTION:Wir machen mobil!\n\n„Anlässlich der Europäischen Mobilitätswoche und zum Tag der Schiene finden im September 2024 zahlreiche Veranstaltungen statt: Ob Sie in die Geschichte der Eisenbahn eintauchen\, Technik erleben oder neue Karrierewege gehen möchten. Landesweit gibt es verschiedenste Aktionen seitens der Verkehrsunternehmen\, Kommunen und Verbände.“ \n\n  \nWeitere Informationen finden Sie unter: https://www.bwegt.de/land-und-leute/das-land-erleben/veranstaltungen/mobilitaetswoche-und-tag-der-schiene-2023
URL:https://ae-network.de/event/mobilitaetswoche/
CATEGORIES:Extern
END:VEVENT
BEGIN:VEVENT
DTSTART;VALUE=DATE:20240917
DTEND;VALUE=DATE:20240923
DTSTAMP:20260422T232152
CREATED:20240115T081727Z
LAST-MODIFIED:20240115T081727Z
UID:11670-1726531200-1727049599@ae-network.de
SUMMARY:IAA TRANSPORTATION
DESCRIPTION:„Wir bleiben unserem Motto „People and Goods on the Move“ treu und freuen uns\, Ihnen wieder die Möglichkeit zu geben\, Entscheider und Multiplikatoren aus Industrie\, Medien\, Politik\, potenzielle Kunden und die gesamte Wertschöpfungskette der Nutzfahrzeuge inkl. Bus\, Logistik\, Transport oder Infrastruktur zu treffen. \nDie IAA TRANSPORTATION bietet Ihnen auf Ihre Bedürfnisse maßgeschneiderte Formate.“ \n  \nWeitere Informationen finden Sie unter: https://www.iaa-transportation.com/de
URL:https://ae-network.de/event/iaa-transportation/
LOCATION:Messegelände Hannover\, Hermes Allee\, Hannover\, 30521\, Deutschland
CATEGORIES:Extern
END:VEVENT
BEGIN:VEVENT
DTSTART;TZID=Europe/Berlin:20240918T090000
DTEND;TZID=Europe/Berlin:20240918T130000
DTSTAMP:20260422T232152
CREATED:20240115T092512Z
LAST-MODIFIED:20240905T112235Z
UID:11808-1726650000-1726664400@ae-network.de
SUMMARY:Wissensreise Geothermie und Lithiumgewinnung - Landau
DESCRIPTION:Geothermie\, Strom\, Fernwärme\, Lithium\, was Sie schon immer über Geothermie wissen wollten! \nHier geht es zur Anmeldung: https://eveeno.com/763344130 \n  \nWeitere Informationen finden Sie unter https://ae-network.de/elektromobilitaet-und-energie/
URL:https://ae-network.de/event/wissensreise-geothermie-graben-neudorf-4/
CATEGORIES:Wissensreise
ORGANIZER;CN="AEN":MAILTO:office@ae-network.de
END:VEVENT
BEGIN:VEVENT
DTSTART;TZID=Europe/Berlin:20240920T093000
DTEND;TZID=Europe/Berlin:20240920T164500
DTSTAMP:20260422T232152
CREATED:20240115T081634Z
LAST-MODIFIED:20240729T081133Z
UID:11775-1726824600-1726850700@ae-network.de
SUMMARY:Transformation Mittelstand in der Automobilindustrie - mittels KI
DESCRIPTION:  \nHier geht es zur ANMELDUNG: https://eveeno.com/342082130 \n——————————————- \n09:30 Uhr – Registrierung & Kaffee \n10:00 Uhr – Eröffnung der Veranstaltung\nProf. Dr. Rose-Marie Beck\, Rektorin der Hochschule Karlsruhe\nSieglinde Walz\, Geschäftsführerin Automotive Engineering Network e. V.\nTorben Stieglitz\, Leiter der Wirtschaftsförderung der Stadt Karlsruhe \n10:10 Uhr – Von der Idee zur Serie: Additive Fertigung und KI als Innovationsmotor\nProf. Dr. Florian Finsterwalder\, Hochschule Karlsruhe\nProf. Dr. Franz-Josef Villmer\, AM& GmbH / TH OWL \n10:30 Uhr – Additive Manufacturing – die kompromisslose Umsetzung von KI gestütztem Design\nNikolai Zaepernick\, EOS Electro Optical Systems GmbH \n11:00 Uhr – Die additive Fertigung von Bipolarplatten für Brennstoffzellen für den grünen Kilometer\nDr. Eric Klemp\, Whitecell Eisenhuth GmbH & Co. KG \n11:30 Uhr – Digital Supply Chain & Digital Rights Management in Reality @ Daimler Truck & Buses\nRalf Anderhofstadt\, Daimler Truck AG | Daimler Buses GmbH \n12:00 Uhr – Pitch der Sponsoren und Aussteller \n12:15 Uhr – Mittagspause\, Networking und KI Expertengespräche \n13:15 Uhr – Impuls aus dem Silicon Valley und Podiumsdiskussion\nDr. Eric Klemp spricht mit Nikolai Zaepernick (EOS)\, Daniel Büning nFrontier )\, Michael Eichmann (Stratasys)\, Dr. Arnd Koeppe (KIT) \n13:45 Uhr – Additive Fertigung metallischer Microteile durch Microguss\nKnut Heitzmann\, Nonnenmacher GmbH \n14:15 Uhr – Prozessoptimierungen im LPBF-Prozess durch den Einsatz von KI und Plattformen\nMichael Flamm\, Rosswag GmbH \n14:45 Uhr – Kaffeepause mit Networking \n15:30 Uhr – Zukunft gestalten: Additive Fertigung trifft auf innovative Softwarelösungen\nDr. Stefan Josupeit\, BASF SE | Forward AM Technologies GmbH \n16:00 Uhr – Der Aufstieg der kreativen KI – Wie maschinelle Intelligenz Design- und Konstruktionsabläufe verändert\nDaniel Büning\, nFrontier GmbH \n16:30 Uhr – Zusammenfassung \n16:45 Uhr – Get Together \n——————————————– \nHier geht es zur ANMELDUNG: https://eveeno.com/342082130 \n 
URL:https://ae-network.de/event/transformation-mittelstand-in-der-automobilindustrie-mittels-ki/
CATEGORIES:KI
ORGANIZER;CN="AEN":MAILTO:office@ae-network.de
END:VEVENT
BEGIN:VEVENT
DTSTART;VALUE=DATE:20240923
DTEND;VALUE=DATE:20240926
DTSTAMP:20260422T232152
CREATED:20240729T075141Z
LAST-MODIFIED:20240729T075141Z
UID:13558-1727049600-1727308799@ae-network.de
SUMMARY:Wissensreise Wasserstoff\, Nantes
DESCRIPTION:
URL:https://ae-network.de/event/wissensreise-wasserstoff-nantes/
LOCATION:Nantes\, Frankreich
END:VEVENT
BEGIN:VEVENT
DTSTART;VALUE=DATE:20240924
DTEND;VALUE=DATE:20240928
DTSTAMP:20260422T232152
CREATED:20240115T110723Z
LAST-MODIFIED:20240115T110723Z
UID:11882-1727136000-1727481599@ae-network.de
SUMMARY:InnoTrans 2024
DESCRIPTION:The future of mobility\n\n\n\n\n\nInternationale Fachmesse für Verkehrstechnik \n  \n\nWeitere Informationen finden Sie unter: https://www.innotrans.de/de/?utm_source=internationales-verkehrswesen.de&utm_medium=banner&utm_campaign=_innotrans_2024_aussteller&adfcd=1704291208.mjj3TGhxGk-FkOdFonxbDQ.Mjc5NTY0MSwyMDE4OTAx
URL:https://ae-network.de/event/innotrans-2024/
LOCATION:Berlin
CATEGORIES:Extern
END:VEVENT
BEGIN:VEVENT
DTSTART;TZID=Europe/Berlin:20240924T173000
DTEND;TZID=Europe/Berlin:20240924T213000
DTSTAMP:20260422T232152
CREATED:20240828T115638Z
LAST-MODIFIED:20240828T115638Z
UID:13748-1727199000-1727213400@ae-network.de
SUMMARY:Technology Arts Evening - Next Generation Videocalling
DESCRIPTION:Technology Arts Evening – Next Generation Videocalling \nAm 24. Sept. 2024\, 17:30 – 21:30 \nIm LTC-Campus in der Wilhelm-Schickard-Straße 9 in 76131 Karlsruhe \nNext Generation Video-Calling: Die Zukunft der digitalen Kommunikation \nVideocalls haben durch die COVID-19-Pandemie eine völlig neue Bedeutung gewonnen. Heute stehen wir erst am Anfang der Möglichkeiten\, wie die digitale Kommunikation in Zukunft gestaltet werden kann. Bei unserem kommenden Event werden wir diese spannenden Entwicklungen gemeinsam mit führenden Experten und Innovatoren diskutieren. \nDr. Sebastian Stüker\, Director\, Research Science\, von Zoom präsentiert die jüngsten Fortschritte in der Sprachtechnologie für Videocalls. \nCarsten Kraus wird seine Erfahrung aus „Die Höhle der Löwen“ präsentieren und mit uns über Finanzierung über Risikokapital diskutieren. \nEine inspirierende künstlerische Darbietung rundet die Veranstaltung ab. \nUnsere Zielgruppe sind Unternehmer\, Innovatoren\, Investoren und Interessierte an digitalen Kommunikationslösungen. \nWir freuen uns auf eine spannende Veranstaltung mit wertvollen Einblicken und inspirierenden Diskussionen. \nAls Mitglied des EnergieForums erhalten sie ein kotenloses Ticket mit dem Promotion Code der Webseite. \nHier zur Anmeldung
URL:https://ae-network.de/event/technology-arts-evening-next-generation-videocalling/
LOCATION:LTC Campus\, Wilhelm-Schickard-Straße 9\, Karlsruhe\, 76131\, Deutschland
CATEGORIES:Extern
END:VEVENT
BEGIN:VEVENT
DTSTART;TZID=Europe/Berlin:20240925T090000
DTEND;TZID=Europe/Berlin:20240925T130000
DTSTAMP:20260422T232152
CREATED:20240115T093622Z
LAST-MODIFIED:20240208T125810Z
UID:11810-1727254800-1727269200@ae-network.de
SUMMARY:Wissensreise Geothermie
DESCRIPTION:Geothermie\, Strom\, Fernwärme\, Lithium\, was Sie schon immer über Geothermie wissen wollten! \nHier geht es zur Anmeldung: https://eveeno.com/174943966 \n  \nWeitere Informationen finden Sie unter https://ae-network.de/elektromobilitaet-und-energie/
URL:https://ae-network.de/event/wissensreise-geothermie-insheim-3/
CATEGORIES:Wissensreise
ORGANIZER;CN="AEN":MAILTO:office@ae-network.de
END:VEVENT
END:VCALENDAR