BEGIN:VCALENDAR
VERSION:2.0
PRODID:-//Automotive Engineering Network - ECPv6.15.20//NONSGML v1.0//EN
CALSCALE:GREGORIAN
METHOD:PUBLISH
X-ORIGINAL-URL:https://ae-network.de
X-WR-CALDESC:Veranstaltungen für Automotive Engineering Network
REFRESH-INTERVAL;VALUE=DURATION:PT1H
X-Robots-Tag:noindex
X-PUBLISHED-TTL:PT1H
BEGIN:VTIMEZONE
TZID:Europe/Berlin
BEGIN:DAYLIGHT
TZOFFSETFROM:+0100
TZOFFSETTO:+0200
TZNAME:CEST
DTSTART:20230326T010000
END:DAYLIGHT
BEGIN:STANDARD
TZOFFSETFROM:+0200
TZOFFSETTO:+0100
TZNAME:CET
DTSTART:20231029T010000
END:STANDARD
BEGIN:DAYLIGHT
TZOFFSETFROM:+0100
TZOFFSETTO:+0200
TZNAME:CEST
DTSTART:20240331T010000
END:DAYLIGHT
BEGIN:STANDARD
TZOFFSETFROM:+0200
TZOFFSETTO:+0100
TZNAME:CET
DTSTART:20241027T010000
END:STANDARD
BEGIN:DAYLIGHT
TZOFFSETFROM:+0100
TZOFFSETTO:+0200
TZNAME:CEST
DTSTART:20250330T010000
END:DAYLIGHT
BEGIN:STANDARD
TZOFFSETFROM:+0200
TZOFFSETTO:+0100
TZNAME:CET
DTSTART:20251026T010000
END:STANDARD
END:VTIMEZONE
BEGIN:VEVENT
DTSTART;VALUE=DATE:20241010
DTEND;VALUE=DATE:20241011
DTSTAMP:20260422T213818
CREATED:20240605T081606Z
LAST-MODIFIED:20240605T081606Z
UID:13238-1728518400-1728604799@ae-network.de
SUMMARY:Zulieferertag Automobilwirtschaft BW
DESCRIPTION:In diesem Jahr beschäftigen wir uns ganz konkret mit den Komponenten des elektrischen Antriebsstrangs und präsentieren wegweisende Innovationen in Forschung und Entwicklung sowie Marktchancen und Unterstützungsangebote für Zulieferer in Komponenten Batterie und Elektromotor. \nMelden Sie sich gerne unter www.zulieferertag-bw.de heute schon an. \nInsbesondere Batteriezellfabriken bieten im Aufbau zahlreiche Herausforderungen\, wie die Fachkräfteverfügbarkeit. Bei einer Verbesserung der Batteriezellproduktion wird die Digitalisierung entscheidend helfen. Außerdem zeigt der Zulieferertag 2024\, wie der baden-württembergische Maschinenbau in der Batteriezellproduktion eine bedeutende Position einnehmen kann. Die flexible und digitalisierte Produktion für E-Motoren bietet ebenfalls wichtige Ansatzpunkte für Unternehmen in der Region. Ein bedeutender Meilenstein ist die Einführung des Batteriepasses\, ein digitaler Datensatz\, der den gesamten Lebenszyklus einer Batterie dokumentiert und erhebliche Auswirkungen auf die Automobilwirtschaft hat. Gleichzeitig schreitet die Transformation bei mittelständischen Unternehmen voran. Auf dem Zulieferertag präsentieren sie ihre bedeutenden Fortschritte auf dem Weg zu Komponentenlieferanten für die Elektromobilität. \nZur Stärkung der eigenen Wettbewerbssituation wird es immer bedeutender\, auf internationaler und besonders auf europäischer Ebene Partner zu finden und Kooperationen aufzubauen. Auch dazu bietet der Zulieferertag Automobilwirtschaft BW 2024 mit seinen Partnerländern Schweden\, Frankreich und Kanada gute Möglichkeiten. Kontakte knüpfen fällt auf der Matching-Messe leicht\, die eine Plattform zur Vernetzung mit internationalen und baden-württembergischen Unternehmen bietet. \nDie Teilnahme ist kostenfrei. Bitte beachten Sie\, dass die Teilnahmeplätze begrenzt sind. Der Zulieferertag Automobilwirtschaft BW findet im Rahmen des Strategiedialogs Automobilwirtschaft BW statt und ist eine gemeinsame Veranstaltung des Ministeriums für Wirtschaft\, Arbeit und Wohnungsbau Baden-Württemberg und der e-mobil BW. \nWir freuen uns\, wenn Sie sich den Termin bereits heute vormerken und sich unter www.anmeldung.zulieferertag-bw.de anmelden.
URL:https://ae-network.de/event/zulieferertag-automobilwirtschaft-bw/
LOCATION:Neckarforum Esslingen
CATEGORIES:Extern
END:VEVENT
BEGIN:VEVENT
DTSTART;TZID=Europe/Berlin:20241018T120000
DTEND;TZID=Europe/Berlin:20241018T170000
DTSTAMP:20260422T213818
CREATED:20241001T091030Z
LAST-MODIFIED:20241001T091030Z
UID:13883-1729252800-1729270800@ae-network.de
SUMMARY:Von der Technologieschmiede zum Transformationspark
DESCRIPTION:Klimaneutralität im Fokus: Unser Weg zur nachhaltigen Zukunft. \n \nDatum: 18.10.2024 \nUrhzeit: 12:00 – 17:00 Uhr \nStandort: Pfinztal \n  \nFreuen Sie sich auf ein spannendes Programm \n12:00 UHR – COME TOGETHER\nMittagsimbiss \n13:00 UHR – ROTHWEILERS VISION\nund der Weg der Energie-Transformation \n13:30 UHR – GRUSSWORTE\nVertreter aus Politik\, Wirtschaft und Forschung \n14:00 UHR – ERFOLGSFAKTOR SOLAR\nNachhaltige Stromversorgung für Wirtschaft und Gemeinden \n14:30 UHR – REGIONALE TRANSFORMATION\nEinblicke in die regionale Energiewende & deren Einfluss auf Unternehmen \n15:00 & 16:00 UHR – GEFÜHRTE RUNDGÄNGE\nLernen Sie unseren Transformationspark kennen \n  \nHier geht es zur Anmeldung: https://eveeno.com/170090624
URL:https://ae-network.de/event/von-der-technologieschmiede-zum-transformationspark/
LOCATION:Pfinztal
END:VEVENT
BEGIN:VEVENT
DTSTART;TZID=Europe/Berlin:20241024T090000
DTEND;TZID=Europe/Berlin:20241024T210000
DTSTAMP:20260422T213818
CREATED:20240806T110047Z
LAST-MODIFIED:20240806T110047Z
UID:13633-1729760400-1729803600@ae-network.de
SUMMARY:FairDay 2024
DESCRIPTION:Die wichtigsten Infos\n⏳ Wann: Donnerstag\, 24. Oktober 2024\, von 9 Uhr bis 21 Uhr\n📍 Wo: SteamWork (morgens) & ZKM (mittags) in Karlsruhe\n👉 Bis zum 15.09.2024 seid Ihr zum Earlybird-Preis von 79€ dabei. Der reguläre Ticketpreis beträgt 119€. \nHier geht es zur Anmeldung: https://eveeno.com/fairday24 \n  \nWas Euch erwartet\nAngesichts der Komplexität des richtigen Handelns wollen wir mit dem FairDay einen Tag ermöglichen\, an dem wir voneinander lernen\, uns vernetzen und austauschen und gegenseitig inspirieren. Durch den ehrlichen Austausch entstehen überraschende und wirklich innovative Lösungsansätze und unerwartete Partnerschaften. \nNeben Best-Practice-Beispielen aus dem Mittelstand werden wir wieder Speaker*innen zu den Themen einladen\, die uns jetzt gerade besonders beschäftigen\, wie die Impact Economy\, konsequente Kreislaufwirtschaft oder Sustainable Finance. \nIn Masterclasses teilen wir unser Wissen mit dem Schwarm. Die Masterclasses werden morgens stattfinden. Die verschiedenen Themen geben wir noch bekannt. Anmeldung zu den Workshops ist zu einem späteren Zeitpunkt für alle mit Ticket möglich. Die Masterclasses sind im Ticketpreis inbegriffen. \nMittags geht es dann weiter mit spannenden Impulsen in der tollen Kulisse des ZKM Zentrum für Kunst und Medien. Das komplette Programm findet Ihr unter Infos. \n\n09.00 Uhr Check-In & Masterclasses im SteamWork\n12.00 Uhr Check-In & Netzwerklunch im ZKM | Zentrum für Kunst und Medien\n13.00 Uhr Hauptprogramm mit inspirierenden Impulsen in verschiedenen Formaten\n18:30 Uhr Get-Together bei Fingerfood und Drinks bis spät\n\nWeitere Informationen und das Programm finden Sie unter https://fairantwortung.org/new-event/fairday-2024/ \n  \nVeranstaltet von der gemeinnützigen Initiative Fairantwortung gAG (www.fairantwortung.org). \nDer FairDay wird ermöglicht durch die Hauptsponsorinnen KlimaAllianz Karlsruhe und Wirtschaftsförderung Karlsruhe sowie den Eventpartnern 4L Vision und GoodSpaces und unterstützt von: CyberForum\, bluehands\, ENI-Group\, TechnologieRegion Karlsruhe\, 4L Capital\, 4L Legal\, 4L Impact Strategies und allen Fairantworter*innen. \n  \n 
URL:https://ae-network.de/event/fairday-2024/
LOCATION:SteamWork
END:VEVENT
BEGIN:VEVENT
DTSTART;VALUE=DATE:20241025
DTEND;VALUE=DATE:20241028
DTSTAMP:20260422T213818
CREATED:20240115T111246Z
LAST-MODIFIED:20240115T111246Z
UID:11889-1729814400-1730073599@ae-network.de
SUMMARY:e4 TESTIVAL
DESCRIPTION:Willkommen beim e4 TESTIVAL\, Deutschlands fahraktivem Event für Neue Mobilität.​\n\n\n\n\n\n\n\n„Seit 2018 gestaltet das e4 TESTIVAL die ultimative Driving Experience für Neue Mobilität am Standort Hockenheimring. Hier erhalten Sie nicht nur Einblicke und Informationen in die Mobilitätslösungen von morgen\, sondern auch die Möglichkeit\, diese direkt auf der Grand-Prix-Strecke unkompliziert selbst Probefahrten zu machen. Von E- Autos und E-Bikes\, über E-Scooter und E-Transporter bis hin zu Last Mile und Fun Fahrzeugen. \nNutzen Sie die Ausstellung auf dem Gelände\, um sich umfassend zu Technik und Recht\, Ladeinfrastruktur und Zubehör\, sowie Fördermöglichkeiten und innovativen Lösungen beraten zu lassen. Treten Sie in Austausch mit Pionieren der Mobilitätsbranche und lernen Sie von Experten\, die vor Ort über ihre Erfahrungen berichten und Auskunft geben.“ \n  \n\n\n\n\nWeitere Informationen finden Sie unter: https://www.e4testival.com/
URL:https://ae-network.de/event/e4-testival/
LOCATION:Hockenheimring
CATEGORIES:Extern
END:VEVENT
END:VCALENDAR