BEGIN:VCALENDAR
VERSION:2.0
PRODID:-//Automotive Engineering Network - ECPv6.15.20//NONSGML v1.0//EN
CALSCALE:GREGORIAN
METHOD:PUBLISH
X-ORIGINAL-URL:https://ae-network.de
X-WR-CALDESC:Veranstaltungen für Automotive Engineering Network
REFRESH-INTERVAL;VALUE=DURATION:PT1H
X-Robots-Tag:noindex
X-PUBLISHED-TTL:PT1H
BEGIN:VTIMEZONE
TZID:Europe/Berlin
BEGIN:DAYLIGHT
TZOFFSETFROM:+0100
TZOFFSETTO:+0200
TZNAME:CEST
DTSTART:20240331T010000
END:DAYLIGHT
BEGIN:STANDARD
TZOFFSETFROM:+0200
TZOFFSETTO:+0100
TZNAME:CET
DTSTART:20241027T010000
END:STANDARD
BEGIN:DAYLIGHT
TZOFFSETFROM:+0100
TZOFFSETTO:+0200
TZNAME:CEST
DTSTART:20250330T010000
END:DAYLIGHT
BEGIN:STANDARD
TZOFFSETFROM:+0200
TZOFFSETTO:+0100
TZNAME:CET
DTSTART:20251026T010000
END:STANDARD
BEGIN:DAYLIGHT
TZOFFSETFROM:+0100
TZOFFSETTO:+0200
TZNAME:CEST
DTSTART:20260329T010000
END:DAYLIGHT
BEGIN:STANDARD
TZOFFSETFROM:+0200
TZOFFSETTO:+0100
TZNAME:CET
DTSTART:20261025T010000
END:STANDARD
END:VTIMEZONE
BEGIN:VEVENT
DTSTART;TZID=Europe/Berlin:20250109T180000
DTEND;TZID=Europe/Berlin:20250109T193000
DTSTAMP:20260422T161859
CREATED:20241217T112443Z
LAST-MODIFIED:20241217T112443Z
UID:13989-1736445600-1736451000@ae-network.de
SUMMARY:E-Fuels und die Energiewende: Der unterschätzte Hebel für Klimaschutz und Wettbewerbsfähigkeit?
DESCRIPTION:Die Diskussion um E-Fuels als Teil der Energiewende nimmt an Fahrt auf – und doch bleibt ihr Potenzial vielfach ungenutzt. Während häufig der Automobilsektor im Fokus steht\, wird das umfassende Anwendungsspektrum von E-Fuels in anderen Bereichen oft übersehen. Gerade für schwer elektrifizierbare Sektoren wie die energieintensive Schwerindustrie\, den internationalen Flug- und Schiffsverkehr sowie den Bausektor könnten E-Fuels den entscheidenden Beitrag leisten\, um Klimaziele zu erreichen und gleichzeitig die Wettbewerbsfähigkeit zu sichern. \nDoch wie weit ist die Forschung wirklich? Können E-Fuels zum Gamechanger werden? Welche Rolle spielen sie für eine wettbewerbsfähige Industrie? Und welche politischen Weichenstellungen sind dringend notwendig? \nDiese und weitere Fragen möchten wir mit unseren Gästen Dr. Olaf Toedter\, Leiter für neue Technologien und Zündsysteme am Karlsruher Institut für Technologie\, Judith Skudelny MdB\, Sprecherin für Umwelt- und Verbraucherschutz der FDP-Bundestagsfraktion\, Klaus-Peter Schmidt\, Projektkoordinator für Energie-Transformation bei dem Automotive · Engineering · Network – Das Mobilitätscluster e.V.\, diskutieren – und mit Ihnen! \nDiese Veranstaltung findet in Kooperation mit dem Automotive · Engineering · Network – Das Mobilitätscluster e.V. und dem Württembergischen Ingenieurverein e.V. statt. \n  \nWeitere Informationen und Anmeldung finden Sie unter E-Fuels und die Energiewende
URL:https://ae-network.de/event/e-fuels-und-die-energiewende-der-unterschaetzte-hebel-fuer-klimaschutz-und-wettbewerbsfaehigkeit/
LOCATION:FUX\, Alter Schlachthof 33\, Karlsruhe\, Baden-Württemberg\, 76131\, Deutschland
END:VEVENT
BEGIN:VEVENT
DTSTART;TZID=Europe/Berlin:20250130T100000
DTEND;TZID=Europe/Berlin:20250130T170000
DTSTAMP:20260422T161859
CREATED:20241205T105028Z
LAST-MODIFIED:20241205T105028Z
UID:13923-1738231200-1738256400@ae-network.de
SUMMARY:Zukunft der Industrieautomatisierung – 5G-Campusnetze\, KI und Edge Computing im Einsatz
DESCRIPTION:Zukunft der Industrieautomatisierung erleben!\nAm 30. Januar 2025 macht die Roadshow „Zukunft der Industrieautomatisierung – 5G-Campusnetze\, KI und Edge Computing im Einsatz“ Halt in der ARENA2036 in Stuttgart.\nMittelständische Unternehmen\, Anwenderunternehmen\, Technologieanbieter:innen und Entscheider:innen können praxisnah erfahren\, wie innovative Technologien echten Mehrwert für die Industrie schaffen können. \nWas erwartet Sie?\nLive-Demonstratoren und konkrete Anwendungsfälle aus sieben BMWK-Technologieprojekten rund um 5G\, KI und Edge Computing sowie Vernetzungsmöglichkeiten mit Fachleuten aus der Industrie und Forschung. \nOrt: ARENA2036\, Stuttgart\nDatum: 30. Januar 2025\, 10:00–17:00 Uhr \nMelden Sie sich jetzt kostenfrei bis zum 18.12. an und gestalten Sie die Zukunft der Industrie mit!\nWeitere Infos finden Sie auf der Veranstaltungswebsite oder dem LinkedIn-Kanal des Forum Digitale Technologien. \nAgenda:\nVeranstaltungsinformation-Zukunft_der_Industrieautomatisierung-5G_KI_Edge_30.01.2025
URL:https://ae-network.de/event/zukunft-der-industrieautomatisierung-5g-campusnetze-ki-und-edge-computing-im-einsatz/
LOCATION:Stuttgart
CATEGORIES:Extern
END:VEVENT
END:VCALENDAR