BEGIN:VCALENDAR
VERSION:2.0
PRODID:-//Automotive Engineering Network - ECPv6.15.20//NONSGML v1.0//EN
CALSCALE:GREGORIAN
METHOD:PUBLISH
X-ORIGINAL-URL:https://ae-network.de
X-WR-CALDESC:Veranstaltungen für Automotive Engineering Network
REFRESH-INTERVAL;VALUE=DURATION:PT1H
X-Robots-Tag:noindex
X-PUBLISHED-TTL:PT1H
BEGIN:VTIMEZONE
TZID:Europe/Berlin
BEGIN:DAYLIGHT
TZOFFSETFROM:+0100
TZOFFSETTO:+0200
TZNAME:CEST
DTSTART:20240331T010000
END:DAYLIGHT
BEGIN:STANDARD
TZOFFSETFROM:+0200
TZOFFSETTO:+0100
TZNAME:CET
DTSTART:20241027T010000
END:STANDARD
BEGIN:DAYLIGHT
TZOFFSETFROM:+0100
TZOFFSETTO:+0200
TZNAME:CEST
DTSTART:20250330T010000
END:DAYLIGHT
BEGIN:STANDARD
TZOFFSETFROM:+0200
TZOFFSETTO:+0100
TZNAME:CET
DTSTART:20251026T010000
END:STANDARD
BEGIN:DAYLIGHT
TZOFFSETFROM:+0100
TZOFFSETTO:+0200
TZNAME:CEST
DTSTART:20260329T010000
END:DAYLIGHT
BEGIN:STANDARD
TZOFFSETFROM:+0200
TZOFFSETTO:+0100
TZNAME:CET
DTSTART:20261025T010000
END:STANDARD
END:VTIMEZONE
BEGIN:VEVENT
DTSTART;TZID=Europe/Berlin:20250227T080000
DTEND;TZID=Europe/Berlin:20250227T120000
DTSTAMP:20260422T143623
CREATED:20241219T112124Z
LAST-MODIFIED:20250121T115005Z
UID:13992-1740643200-1740657600@ae-network.de
SUMMARY:Transformation Mittelstand in der Automobilindustrie - mittels KI
DESCRIPTION:Save the Date: 7. Veranstaltung „Transformation Mittelstand in der Automobilindustrie – mittels KI“ \nWir freuen uns\, Sie zu unserer 7. Veranstaltung der erfolgreichen Reihe „Transformation Mittelstand in der Automobilindustrie – mittels KI“ einzuladen! Freuen Sie sich auf spannende Einblicke\, inspirierende Vorträge und einen erfolgreichen Austausch mit Teilnehmern aus der Branche. \nDer Anmeldelink ist bereits aktiv – sichern Sie sich Ihren Platz und registrieren Sie sich noch heute! \nWir freuen uns auf Ihre Teilnahme und einen inspirierenden Tag voller Innovation und Vernetzung. \nAnmeldung: Transformation Mittelstand in der Automobilindustrie – mittels KI \nAgenda: Flyer KI 27.02. Transformation Mittelstand
URL:https://ae-network.de/event/transformation-mittelstand-in-der-automobilindustrie-mittels-ki-5/
LOCATION:FUX\, Alter Schlachthof 33\, Karlsruhe\, Baden-Württemberg\, 76131\, Deutschland
CATEGORIES:KI
ORGANIZER;CN="AEN":MAILTO:office@ae-network.de
END:VEVENT
END:VCALENDAR