BEGIN:VCALENDAR
VERSION:2.0
PRODID:-//Automotive Engineering Network - ECPv6.15.20//NONSGML v1.0//EN
CALSCALE:GREGORIAN
METHOD:PUBLISH
X-ORIGINAL-URL:https://ae-network.de
X-WR-CALDESC:Veranstaltungen für Automotive Engineering Network
REFRESH-INTERVAL;VALUE=DURATION:PT1H
X-Robots-Tag:noindex
X-PUBLISHED-TTL:PT1H
BEGIN:VTIMEZONE
TZID:Europe/Berlin
BEGIN:DAYLIGHT
TZOFFSETFROM:+0100
TZOFFSETTO:+0200
TZNAME:CEST
DTSTART:20240331T010000
END:DAYLIGHT
BEGIN:STANDARD
TZOFFSETFROM:+0200
TZOFFSETTO:+0100
TZNAME:CET
DTSTART:20241027T010000
END:STANDARD
BEGIN:DAYLIGHT
TZOFFSETFROM:+0100
TZOFFSETTO:+0200
TZNAME:CEST
DTSTART:20250330T010000
END:DAYLIGHT
BEGIN:STANDARD
TZOFFSETFROM:+0200
TZOFFSETTO:+0100
TZNAME:CET
DTSTART:20251026T010000
END:STANDARD
BEGIN:DAYLIGHT
TZOFFSETFROM:+0100
TZOFFSETTO:+0200
TZNAME:CEST
DTSTART:20260329T010000
END:DAYLIGHT
BEGIN:STANDARD
TZOFFSETFROM:+0200
TZOFFSETTO:+0100
TZNAME:CET
DTSTART:20261025T010000
END:STANDARD
END:VTIMEZONE
BEGIN:VEVENT
DTSTART;TZID=Europe/Berlin:20250327T170000
DTEND;TZID=Europe/Berlin:20250327T220000
DTSTAMP:20260422T124405
CREATED:20250320T095416Z
LAST-MODIFIED:20250320T095416Z
UID:14282-1743094800-1743112800@ae-network.de
SUMMARY:Innovators' Night
DESCRIPTION:Innovation lebt vom Austausch. Bei der dritten Innovators‘ Night treffen Sie auf Gleichgesinnte\, die wie Sie täglich die Innovationskraft ihrer Unternehmen stärken. \nWas Sie erwartet:\nStarten Sie den Abend mit spannenden Einblicken die Arbeitsgruppe „Innovationsprozesse“\, die erfolgreiche Innovationsstrategien verschiedener Unternehmen analysiert hat. Die gewonnenen Erkenntnisse liefern wertvolle Impulse für Ihre eigene Innovationsarbeit. \nDer Hauptteil des Abends gehört Ihnen: Im Barcamp-Format werden Themen aufgegriffen\, die Sie bewegen. Bringen Sie Ihre aktuellen Herausforderungen ein und profitieren Sie von der kollektiven Expertise der Community. Ob Innovationskultur\, Prozessoptimierung oder Change Management – gemeinsam werden in kleinen Gruppen konkrete Lösungsansätze entwickelt. \n  \nWeitere Informationen und den Link zur Anmeldung finden Sie hier: https://www.tech-solute.de/events/innovators-night/
URL:https://ae-network.de/event/innovators-night/
LOCATION:Hubwerk01
CATEGORIES:Extern
END:VEVENT
BEGIN:VEVENT
DTSTART;VALUE=DATE:20250331
DTEND;VALUE=DATE:20250405
DTSTAMP:20260422T124405
CREATED:20250107T142838Z
LAST-MODIFIED:20250107T142838Z
UID:13997-1743379200-1743811199@ae-network.de
SUMMARY:Baden-Württemberg Gemeinschaftsstand auf der Hannover Messe 2025
DESCRIPTION:Der THE LÄND-Gemeinschaftsstand präsentiert Unternehmen\, Forschungseinrichtungen\, Cluster und Projektverbünde aus Baden-Württemberg. Das gemeinsame Angebot von Baden-Württemberg International\, der Wirtschaftsförderung Region Stuttgart und der Landesagentur e-mobil BW schafft vielfältige Synergien durch ein exzellentes Netzwerk. \nVom 31. März bis 4. April 2025 findet die Hannover Messe – die größte Industriemesse weltweit – statt. Auch Baden-Württemberg ist wieder im Ausstellungsbereich Energy for Industry (Halle 13) vertreten. Gemeinsam mit Baden-Württemberg International und der Wirtschaftsförderung Region Stuttgart organisiert und betreut e-mobil BW einen über 600 qm großen Gemeinschaftsstand. \nWeitere Informationen finden Sie unter Baden-Württemberg Gemeinschaftsstand auf der Hannover Messe 2025 – e-mobil BW GmbH
URL:https://ae-network.de/event/baden-wuerttemberg-gemeinschaftsstand-auf-der-hannover-messe-2025/
END:VEVENT
END:VCALENDAR