BEGIN:VCALENDAR
VERSION:2.0
PRODID:-//Automotive Engineering Network - ECPv6.15.20//NONSGML v1.0//EN
CALSCALE:GREGORIAN
METHOD:PUBLISH
X-WR-CALNAME:Automotive Engineering Network
X-ORIGINAL-URL:https://ae-network.de
X-WR-CALDESC:Veranstaltungen für Automotive Engineering Network
REFRESH-INTERVAL;VALUE=DURATION:PT1H
X-Robots-Tag:noindex
X-PUBLISHED-TTL:PT1H
BEGIN:VTIMEZONE
TZID:Europe/Berlin
BEGIN:DAYLIGHT
TZOFFSETFROM:+0100
TZOFFSETTO:+0200
TZNAME:CEST
DTSTART:20240331T010000
END:DAYLIGHT
BEGIN:STANDARD
TZOFFSETFROM:+0200
TZOFFSETTO:+0100
TZNAME:CET
DTSTART:20241027T010000
END:STANDARD
BEGIN:DAYLIGHT
TZOFFSETFROM:+0100
TZOFFSETTO:+0200
TZNAME:CEST
DTSTART:20250330T010000
END:DAYLIGHT
BEGIN:STANDARD
TZOFFSETFROM:+0200
TZOFFSETTO:+0100
TZNAME:CET
DTSTART:20251026T010000
END:STANDARD
BEGIN:DAYLIGHT
TZOFFSETFROM:+0100
TZOFFSETTO:+0200
TZNAME:CEST
DTSTART:20260329T010000
END:DAYLIGHT
BEGIN:STANDARD
TZOFFSETFROM:+0200
TZOFFSETTO:+0100
TZNAME:CET
DTSTART:20261025T010000
END:STANDARD
END:VTIMEZONE
BEGIN:VEVENT
DTSTART;VALUE=DATE:20250331
DTEND;VALUE=DATE:20250405
DTSTAMP:20260422T110922
CREATED:20250107T142838Z
LAST-MODIFIED:20250107T142838Z
UID:13997-1743379200-1743811199@ae-network.de
SUMMARY:Baden-Württemberg Gemeinschaftsstand auf der Hannover Messe 2025
DESCRIPTION:Der THE LÄND-Gemeinschaftsstand präsentiert Unternehmen\, Forschungseinrichtungen\, Cluster und Projektverbünde aus Baden-Württemberg. Das gemeinsame Angebot von Baden-Württemberg International\, der Wirtschaftsförderung Region Stuttgart und der Landesagentur e-mobil BW schafft vielfältige Synergien durch ein exzellentes Netzwerk. \nVom 31. März bis 4. April 2025 findet die Hannover Messe – die größte Industriemesse weltweit – statt. Auch Baden-Württemberg ist wieder im Ausstellungsbereich Energy for Industry (Halle 13) vertreten. Gemeinsam mit Baden-Württemberg International und der Wirtschaftsförderung Region Stuttgart organisiert und betreut e-mobil BW einen über 600 qm großen Gemeinschaftsstand. \nWeitere Informationen finden Sie unter Baden-Württemberg Gemeinschaftsstand auf der Hannover Messe 2025 – e-mobil BW GmbH
URL:https://ae-network.de/event/baden-wuerttemberg-gemeinschaftsstand-auf-der-hannover-messe-2025/
END:VEVENT
BEGIN:VEVENT
DTSTART;TZID=Europe/Berlin:20250409T093000
DTEND;TZID=Europe/Berlin:20250409T150000
DTSTAMP:20260422T110922
CREATED:20250320T100010Z
LAST-MODIFIED:20250320T100010Z
UID:14289-1744191000-1744210800@ae-network.de
SUMMARY:ADAC Expertenreihe 2025
DESCRIPTION:Sehr geehrte Damen und Herren\, \nSie kennen inzwischen die ADAC Expertenreihe\, mit der wir jedes Jahr den Raum für fachlichen und persönlichen Austausch zu aktuellen Verkehrsthemen bieten. Die kostenlose Vortragsreihe richtet sich speziell an Vertreterinnen und Vertreter von Behörden und Kommunen\, um sich zu informieren\, zu vernetzen und mit Verkehrsexperten auszutauschen sowie Lösungen für Herausforderungen im Mobilitätsbereich zu finden. \nUnsere diesjährige Veranstaltung in Ettlingen widmet sich dem Thema Autoverkehr innerorts neu denken. Städte und Gemeinden möchten eine höhere Aufenthaltsqualität für die Menschen im öffentlichen Raum\, verbunden mit mehr Schutz von Gesundheit\, Klima und Umwelt. Dazu streben viele nach emissionsarmer Mobilität mit weniger Autoverkehr. Die Antriebswende soll gestärkt\, andere Verkehrsformen gefördert\, verkehrssparende Raumstrukturen umgesetzt und zugleich verschiedene Mobilitätsbedürfnisse erfüllt werden. \nIm Namen des ADAC Nordbaden e.V. lade ich Sie herzlich ein\, sich bei der\nADAC Expertenreihe 2025\nAutoverkehr innerorts neu denken.\nZukunft. Konzepte. Praxis\nam 09. April 2025 in Ettlingen\, über Anforderungen\, Konzepte und Lösungen für den innerörtlichen Autoverkehr zu informieren und mit Expertinnen und Experten im Rahmen einer Präsenzveranstaltung auszutauschen. Melden Sie sich bei Interesse bitte auf www.adac.de/expertenreihe2025 an. \nDer Individualverkehr mit dem privaten Pkw ist für viele Bewohner und Besucherinnen zentral für die tägliche Mobilität. Die Gründe dafür sind vielfältig. Oft hat sich die Automobilität als zuverlässige und beste Lösung für den Weg zur Arbeit\, zum Einkauf oder in der Freizeit bewährt. Nicht selten fehlen akzeptable Alternativen. Manche sind auf die Autonutzung angewiesen. Außerdem prägt eine gute verkehrliche Anbindung oft die Attraktivität und Wirtschaft der Kommunen. Daher stellt sich die Frage\, wie innerörtlicher Autoverkehr angesichts unterschiedlicher Erwartungen verändert werden kann. \nWir freuen uns auf Sie!\nIm Namen des ADAC Nordbaden e.V. \n  \nWeitere Informationen und den Link zur Anmeldung finden Sie unter: https://www.adac.de/verkehr/standpunkte-studien/fachinformationen-veranstaltungen/expertenreihe/?redirectId=quer.expertenreihe2025
URL:https://ae-network.de/event/adac-expertenreihe-2025/
LOCATION:Ettlingen
CATEGORIES:Extern
END:VEVENT
BEGIN:VEVENT
DTSTART;TZID=Europe/Berlin:20250416T090000
DTEND;TZID=Europe/Berlin:20250416T110000
DTSTAMP:20260422T110922
CREATED:20250410T131831Z
LAST-MODIFIED:20250410T132308Z
UID:14369-1744794000-1744801200@ae-network.de
SUMMARY:INNOVATION BREAKFAST
DESCRIPTION:Innovation trifft auf Klimaschutz – Einladung zum „Innovation Breakfast: Wasserstoff“ in Pforzheim! \nAm 16. April 2025 darf ich im Rahmen der Veranstaltungsreihe der IHK Nordschwarzwald über ein Thema sprechen\, das mich seit Jahren antreibt: Wasserstoff als Schlüsseltechnologie für eine nachhaltige Industrie. \nAls Gründer und Geschäftsführer von Feinwerkmechanik Rothweiler weiß ich aus erster Hand\, welche Chancen\, aber auch welche Herausforderungen mit dem Einsatz von Wasserstoff\, Photovoltaik und Automatisierung in der Produktion verbunden sind. \nWas einst als Garagenprojekt begann\, ist heute ein realer Beitrag zur Energiewende – und ich freue mich darauf\, unsere Erfahrungen\, Erfolge und Learnings mit Ihnen zu teilen. \nWorum geht’s konkret? \n\nWarum Wasserstoff mehr ist als ein Hype\nWie Industrieprozesse heute schon klimaneutral funktionieren können\nWelche technologischen\, wirtschaftlichen und politischen Weichen jetzt gestelltwerden müssen\nOrt: IHK Nordschwarzwald\, Pforzheim\nDWasserstoff Event IHK PFatum: 16.04.2025\nFormat: Innovation Breakfast – kompakt\, praxisnah\, mit Austausch auf Augenhöhe \nIch freue mich auf den Dialog mit anderen Vordenkern\, Praktikern und Innovationsfreunden!
URL:https://ae-network.de/event/innovation-breakast/
LOCATION:IHK Nordschwarzwald\, Pforzheim\, Dr.-Brandenburg-Straße 6\, Pforzheim\, Baden-Württemberg\, 75173
END:VEVENT
BEGIN:VEVENT
DTSTART;TZID=Europe/Berlin:20250430T170000
DTEND;TZID=Europe/Berlin:20250430T180000
DTSTAMP:20260422T110922
CREATED:20250303T101958Z
LAST-MODIFIED:20250303T101958Z
UID:14183-1746032400-1746036000@ae-network.de
SUMMARY:KI Einsatz in Produktion\, Marketing u. Vertrieb
DESCRIPTION:KI kann eine grundlegende Rolle bei der Entscheidungsfindung für neue Geschäftsmodelle spielen und unterstützt Unternehmen bei der Optimierung in verschiedenen Geschäftsbereichen. \nProf. Dr. Alexander Rossmann\nProfessor für Digitale Geschäftsmodelle an der Hochschule Reutlingen und Leiter des Herman Hollerith Zentrums\, Böblingen. \nINHALT\nKünstliche Intelligenz (KI) sowie die damit verwandten Technologien lassen sich in unterschiedlichen Unternehmensbereichen einsetzen. Das Online-Training gibt einen Überblick und zeigt Beispiele für den Einsatz von KI in Fertigung\, Logistik\, Marketing und Vertrieb oder Einkauf auf. \nIn verschiedenen Unternehmensfunktionen kann Künstliche Intelligenz eingesetzt werden\, um Prozesse zu automatisieren. Dies ermöglicht in vielen Funktionen schnellere oder bessere Entscheidungen und bildet häufig die Grundlage für neue Geschäftsmodelle sowie eine Optimierung der Kundenerfahrung. Unternehmensintern lassen sich durch KI neue Einsparpotenziale erschließen und Prozesse dynamisieren. \nDer Begriff Künstliche Intelligenz (KI) wird heute in Wirtschaft und Gesellschaft prominent diskutiert. Prof. Dr. Alexander Rossmann von der Hochschule Reutlingen zeigt verschiedene angewandte Beispiele in Unternehmen auf\, die sich auch für klein- und mittelständische Betriebe nutzen lassen und gibt hilfreiche Tipps zur Einführung und Umsetzung im eigenen Unternehmen. \n📆 Datum: 30.04.2025\n🕙 Uhrzeit: 17:00 – 18:00 Uhr\n📍 Online-Seminar \n\n🎯 LERNZIELE & ZIELGRUPPEN\nSie verstehen die Grundlagen und Einsatzmöglichkeiten von KI und wie Sie als Unternehmen davon in verschiedenen Bereichen profitieren können. Einsteiger und Interessierte aus kleinen und mittelständischen Unternehmen\, Führungskräfte/Verantwortliche für Prozessmanagement\, IT-Organisationen. \n📢 DOZENT\nAlexander Rossmann ist Leiter des Herman Hollerith Zentrums und Professor für Digitale Geschäftsmodelle an der Hochschule Reutlingen. Vor dieser Tätigkeit war er Research Associate am Institut für Marketing der Universität St. Gallen sowie über 10 Jahre Mitglied der Geschäftsleitung einer renommierten Beratungsgesellschaft. Seine Forschungsschwerpunkte liegen in den Bereichen Digital Business\, User Experience\, agile Governance\, Smart Cities und Artificial Intelligence. \nFORMAT\nOnline-Seminar \nVORAUSSETZUNGEN\nKeine \nVERANSTALTUNGSORT\nDer Kurs wird ausschließlich online (ZOOM) angeboten \nTEILNEHMENDENZAHL\nMindestens 5 Personen \nKOSTEN\n19\,00 Euro \n  \nWeiter Informationen unter KI Einsatz in Produktion\, Marketing u. Vertrieb – Zentrum Digitalisierung in der Region Stuttgart
URL:https://ae-network.de/event/ki-einsatz-in-produktion-marketing-u-vertrieb/
LOCATION:Online
CATEGORIES:Extern
END:VEVENT
END:VCALENDAR