BEGIN:VCALENDAR
VERSION:2.0
PRODID:-//Automotive Engineering Network - ECPv6.15.20//NONSGML v1.0//EN
CALSCALE:GREGORIAN
METHOD:PUBLISH
X-WR-CALNAME:Automotive Engineering Network
X-ORIGINAL-URL:https://ae-network.de
X-WR-CALDESC:Veranstaltungen für Automotive Engineering Network
REFRESH-INTERVAL;VALUE=DURATION:PT1H
X-Robots-Tag:noindex
X-PUBLISHED-TTL:PT1H
BEGIN:VTIMEZONE
TZID:Europe/Berlin
BEGIN:DAYLIGHT
TZOFFSETFROM:+0100
TZOFFSETTO:+0200
TZNAME:CEST
DTSTART:20240331T010000
END:DAYLIGHT
BEGIN:STANDARD
TZOFFSETFROM:+0200
TZOFFSETTO:+0100
TZNAME:CET
DTSTART:20241027T010000
END:STANDARD
BEGIN:DAYLIGHT
TZOFFSETFROM:+0100
TZOFFSETTO:+0200
TZNAME:CEST
DTSTART:20250330T010000
END:DAYLIGHT
BEGIN:STANDARD
TZOFFSETFROM:+0200
TZOFFSETTO:+0100
TZNAME:CET
DTSTART:20251026T010000
END:STANDARD
BEGIN:DAYLIGHT
TZOFFSETFROM:+0100
TZOFFSETTO:+0200
TZNAME:CEST
DTSTART:20260329T010000
END:DAYLIGHT
BEGIN:STANDARD
TZOFFSETFROM:+0200
TZOFFSETTO:+0100
TZNAME:CET
DTSTART:20261025T010000
END:STANDARD
END:VTIMEZONE
BEGIN:VEVENT
DTSTART;TZID=Europe/Berlin:20251106T080000
DTEND;TZID=Europe/Berlin:20251106T170000
DTSTAMP:20260421T230258
CREATED:20250904T074801Z
LAST-MODIFIED:20250904T074801Z
UID:14742-1762416000-1762448400@ae-network.de
SUMMARY:URBANE final event
DESCRIPTION:Am 6. November 2025 findet in Barcelona das Final Event unseres EU-Projekts URBANE statt! 🌍🚚 \nGemeinsam mit unseren europäischen Partnern blicken wir zurück auf spannende Projektergebnisse und zeigen\, wie urbane Logistiklösungen nachhaltiger\, effizienter und smarter gestaltet werden können.
URL:https://ae-network.de/event/urbane-final-event/
LOCATION:Barcelona
END:VEVENT
END:VCALENDAR