BEGIN:VCALENDAR
VERSION:2.0
PRODID:-//Automotive Engineering Network - ECPv6.15.20//NONSGML v1.0//EN
CALSCALE:GREGORIAN
METHOD:PUBLISH
X-ORIGINAL-URL:https://ae-network.de
X-WR-CALDESC:Veranstaltungen für Automotive Engineering Network
REFRESH-INTERVAL;VALUE=DURATION:PT1H
X-Robots-Tag:noindex
X-PUBLISHED-TTL:PT1H
BEGIN:VTIMEZONE
TZID:Europe/Berlin
BEGIN:DAYLIGHT
TZOFFSETFROM:+0100
TZOFFSETTO:+0200
TZNAME:CEST
DTSTART:20250330T010000
END:DAYLIGHT
BEGIN:STANDARD
TZOFFSETFROM:+0200
TZOFFSETTO:+0100
TZNAME:CET
DTSTART:20251026T010000
END:STANDARD
BEGIN:DAYLIGHT
TZOFFSETFROM:+0100
TZOFFSETTO:+0200
TZNAME:CEST
DTSTART:20260329T010000
END:DAYLIGHT
BEGIN:STANDARD
TZOFFSETFROM:+0200
TZOFFSETTO:+0100
TZNAME:CET
DTSTART:20261025T010000
END:STANDARD
BEGIN:DAYLIGHT
TZOFFSETFROM:+0100
TZOFFSETTO:+0200
TZNAME:CEST
DTSTART:20270328T010000
END:DAYLIGHT
BEGIN:STANDARD
TZOFFSETFROM:+0200
TZOFFSETTO:+0100
TZNAME:CET
DTSTART:20271031T010000
END:STANDARD
END:VTIMEZONE
BEGIN:VEVENT
DTSTART;TZID=Europe/Berlin:20260116T235900
DTEND;TZID=Europe/Berlin:20260116T235900
DTSTAMP:20260421T194007
CREATED:20251208T103542Z
LAST-MODIFIED:20251208T103542Z
UID:14926-1768607940-1768607940@ae-network.de
SUMMARY:Future Mobility Award 2026 - Einsendeschluss
DESCRIPTION:driving visionary mobility forward.\nThe intention of the Future Mobility Award is to honor sustainable mobility solutions for the transport sector. The aim is to give start-ups the chance to present themselves and make their ideas and solutions for the transport sector visible as well as to establish a competition which will take place in regular intervals. \nThe award is presented by the City fo Karlsruhe Economic Development\, Messe Karlsruhe\, aen – automotive. engineering. network e.V. and NahverkehrsPraxis/Fachverlag Dr. H. Arnold GmbH. \nUnder the patronage of Winfried Hermann\, Minister of Transport Baden-Württemberg \n \n  \nMore Information: https://www.nahverkehrspraxis.de/future-mobility-award/
URL:https://ae-network.de/event/future-mobility-award-2026-einsendeschluss/
CATEGORIES:FMA
END:VEVENT
BEGIN:VEVENT
DTSTART;TZID=Europe/Berlin:20260128T163000
DTEND;TZID=Europe/Berlin:20260128T183000
DTSTAMP:20260421T194007
CREATED:20260113T081427Z
LAST-MODIFIED:20260113T081427Z
UID:15060-1769617800-1769625000@ae-network.de
SUMMARY:Mobilität für alle – klimagerecht\, sicher\, zukunftsfähig
DESCRIPTION:„Die Mobilität der Zukunft muss klimafreundlich\, sozial gerecht und alltagstauglich sein – für alle Menschen\, die in Karlsruhe und der Region unterwegs sind. Ob mit dem Rad\, zu Fuß\, im ÖPNV oder im Auto: Eine gut geplante\, sichere und nachhaltige Verkehrspolitik stärkt den Zusammenhalt in der Stadt\, schützt unser Klima und verbessert die Lebensqualität für alle Generationen. \nWir freuen uns besonders\, dass Winfried Hermann MdL als Experte für Verkehrspolitik einen Impuls geben wird. Er wird aufzeigen\, wie eine sozial gerechte und klimaverträgliche Mobilität gelingen kann – und welche Weichen wir dafür stellen müssen. \nIm Anschluss möchten wir mit Ihnen ins Gespräch kommen: über Chancen und Hürden\, über gute Beispiele aus der Praxis\, über notwendige Schritte vor Ort und im Land. Ihre Perspektiven und Erfahrungen – ob fachlich oder ganz persönlich – sind ausdrücklich willkommen. \nDie Veranstaltung findet digital statt. Die Zugangsdaten (Webex-Link) erhalten Sie nach Anmeldung per E-Mail an: Alexander.Salomon@gruene.landtag-bw.de. \nWir würden uns sehr freuen\, Sie am 28. Januar digital begrüßen zu dürfen.“
URL:https://ae-network.de/event/mobilitaet-fuer-alle-klimagerecht-sicher-zukunftsfaehig/
LOCATION:Online
CATEGORIES:Extern
END:VEVENT
END:VCALENDAR