BEGIN:VCALENDAR
VERSION:2.0
PRODID:-//Automotive Engineering Network - ECPv6.15.20//NONSGML v1.0//EN
CALSCALE:GREGORIAN
METHOD:PUBLISH
X-WR-CALNAME:Automotive Engineering Network
X-ORIGINAL-URL:https://ae-network.de
X-WR-CALDESC:Veranstaltungen für Automotive Engineering Network
REFRESH-INTERVAL;VALUE=DURATION:PT1H
X-Robots-Tag:noindex
X-PUBLISHED-TTL:PT1H
BEGIN:VTIMEZONE
TZID:Europe/Berlin
BEGIN:DAYLIGHT
TZOFFSETFROM:+0100
TZOFFSETTO:+0200
TZNAME:CEST
DTSTART:20250330T010000
END:DAYLIGHT
BEGIN:STANDARD
TZOFFSETFROM:+0200
TZOFFSETTO:+0100
TZNAME:CET
DTSTART:20251026T010000
END:STANDARD
BEGIN:DAYLIGHT
TZOFFSETFROM:+0100
TZOFFSETTO:+0200
TZNAME:CEST
DTSTART:20260329T010000
END:DAYLIGHT
BEGIN:STANDARD
TZOFFSETFROM:+0200
TZOFFSETTO:+0100
TZNAME:CET
DTSTART:20261025T010000
END:STANDARD
BEGIN:DAYLIGHT
TZOFFSETFROM:+0100
TZOFFSETTO:+0200
TZNAME:CEST
DTSTART:20270328T010000
END:DAYLIGHT
BEGIN:STANDARD
TZOFFSETFROM:+0200
TZOFFSETTO:+0100
TZNAME:CET
DTSTART:20271031T010000
END:STANDARD
END:VTIMEZONE
BEGIN:VEVENT
DTSTART;VALUE=DATE:20260303
DTEND;VALUE=DATE:20260306
DTSTAMP:20260421T162128
CREATED:20250408T104204Z
LAST-MODIFIED:20250408T104204Z
UID:14333-1772496000-1772755199@ae-network.de
SUMMARY:IT-TRANS 2026
DESCRIPTION:IT-TRANS – Internationaler Kongress und Fachmesse \nDie IT-TRANS ist eine einzigartige Plattform für Expertinnen und Experten\, Verkehrsunternehmen und Branchenführer\, um sich dezidiert über die neuesten Entwicklungen rund um digitale Herausforderungen im öffentlichen Verkehrswesen auszutauschen möchten. Entdecken Sie bei der IT-TRANS innovative Produkte und Dienstleistungen führender Unternehmen der Branche: Von künstlicher Intelligenz über Bezahlung und Ticketing bis hin zu Cybersecurity und Datenstandards – die IT-TRANS präsentiert ein breites Spektrum an Themen\, die die Zukunft der Mobilität prägen. Seien Sie Teil dieser wegweisenden Fachmesse und gestalten Sie aktiv mit\, um öffentliche Mobilität noch effizienter\, noch ressourcenschonender\, noch attraktiver zu machen! \n  \nWeitere Informationen unter: https://www.it-trans.org/de/
URL:https://ae-network.de/event/it-trans-2026/
LOCATION:Messe Karlsruhe\, Messeallee 1\, Rheinstetten\, 76287\, Deutschland
CATEGORIES:Extern
END:VEVENT
BEGIN:VEVENT
DTSTART;TZID=Europe/Berlin:20260303T133000
DTEND;TZID=Europe/Berlin:20260303T143000
DTSTAMP:20260421T162128
CREATED:20260225T100828Z
LAST-MODIFIED:20260225T100828Z
UID:15144-1772544600-1772548200@ae-network.de
SUMMARY:Women in Mobility
DESCRIPTION:WiM-Netzwerktreffen auf der IT-TRANS 2026\nGespräch mit Anna-Theresa Korbutt (Geschäftsführerin HVV) und Britta Wirtz (Geschäftsführerin Messe Karlsruhe) zu Leadership und Innovationskultur. \n📅 Dienstag\, 3. März 2026\, 13:30–14:30 Uhr\n📍 IT-TRANS\, Market Update Forum\, Halle 2\, Karlsruhe\n👉 Kostenfreie Anmeldung
URL:https://ae-network.de/event/women-in-mobility/
LOCATION:Messe Karlsruhe\, Messeallee 1\, Rheinstetten\, 76287\, Deutschland
CATEGORIES:Extern
END:VEVENT
BEGIN:VEVENT
DTSTART;VALUE=DATE:20260304
DTEND;VALUE=DATE:20260305
DTSTAMP:20260421T162128
CREATED:20251208T104042Z
LAST-MODIFIED:20260225T100652Z
UID:14932-1772582400-1772668799@ae-network.de
SUMMARY:Future Mobility Award 2026 - Preisverleihung
DESCRIPTION:Future Mobility Award 2026 – Award Ceremony at IT-TRANS in Karlsruhe \nThe Future Mobility Award 2026 will be presented as part of IT-TRANS on March 4\, 2026 in Karlsruhe.\nIT-TRANS is the leading international event for digital solutions in urban transport. It brings together pro-fessionals and decision-makers to showcase current developments and innovative technologies such as on-demand mobility\, Mobility as a Service (MaaS)\, and autonomous vehicles\, while sharing knowledge to shape the future of public transport. \nThe Future Mobility Award recognizes sustainable mobility solutions for the transport sector. The aim is to offer start-ups a platform on which they can present their ideas and solutions for the mobility industry\, as well as to establish a regular competition.\nThe award is presented by the City of Karlsruhe – Economic Development Department\, aen – automotive.engineering.network e.V.\, Messe Karlsruhe and Nahverkehrs-Praxis/Fachverlag Dr. H. Arnold GmbH. \nMore Information: https://www.nahverkehrspraxis.de/future-mobility-award/
URL:https://ae-network.de/event/future-mobility-award-2026-preisverleihung/
LOCATION:Messe Karlsruhe\, Messeallee 1\, Rheinstetten\, 76287\, Deutschland
CATEGORIES:FMA
END:VEVENT
BEGIN:VEVENT
DTSTART;TZID=Europe/Berlin:20260311T080000
DTEND;TZID=Europe/Berlin:20260311T130000
DTSTAMP:20260421T162128
CREATED:20251208T104158Z
LAST-MODIFIED:20251208T104158Z
UID:14934-1773216000-1773234000@ae-network.de
SUMMARY:Transformation Mittelstand - mittels KI
DESCRIPTION:———- SAVE THE DATE ———
URL:https://ae-network.de/event/transformation-mittelstand-mittels-ki/
CATEGORIES:KI
END:VEVENT
END:VCALENDAR