BEGIN:VCALENDAR
VERSION:2.0
PRODID:-//Automotive Engineering Network - ECPv6.15.20//NONSGML v1.0//EN
CALSCALE:GREGORIAN
METHOD:PUBLISH
X-ORIGINAL-URL:https://ae-network.de
X-WR-CALDESC:Veranstaltungen für Automotive Engineering Network
REFRESH-INTERVAL;VALUE=DURATION:PT1H
X-Robots-Tag:noindex
X-PUBLISHED-TTL:PT1H
BEGIN:VTIMEZONE
TZID:Europe/Berlin
BEGIN:DAYLIGHT
TZOFFSETFROM:+0100
TZOFFSETTO:+0200
TZNAME:CEST
DTSTART:20250330T010000
END:DAYLIGHT
BEGIN:STANDARD
TZOFFSETFROM:+0200
TZOFFSETTO:+0100
TZNAME:CET
DTSTART:20251026T010000
END:STANDARD
BEGIN:DAYLIGHT
TZOFFSETFROM:+0100
TZOFFSETTO:+0200
TZNAME:CEST
DTSTART:20260329T010000
END:DAYLIGHT
BEGIN:STANDARD
TZOFFSETFROM:+0200
TZOFFSETTO:+0100
TZNAME:CET
DTSTART:20261025T010000
END:STANDARD
BEGIN:DAYLIGHT
TZOFFSETFROM:+0100
TZOFFSETTO:+0200
TZNAME:CEST
DTSTART:20270328T010000
END:DAYLIGHT
BEGIN:STANDARD
TZOFFSETFROM:+0200
TZOFFSETTO:+0100
TZNAME:CET
DTSTART:20271031T010000
END:STANDARD
END:VTIMEZONE
BEGIN:VEVENT
DTSTART;VALUE=DATE:20260609
DTEND;VALUE=DATE:20260612
DTSTAMP:20260421T175737
CREATED:20251208T104500Z
LAST-MODIFIED:20251208T104500Z
UID:14936-1780963200-1781222399@ae-network.de
SUMMARY:VDV-Jahrestagung
DESCRIPTION:VDV-Jahrestagung 2026 | Karlsruhe\nTransformation beschleunigen – Innovationen gestalten\nVom 9. bis 11. Juni 2026 findet die VDV-Jahrestagung in Karlsruhe in Kooperation mit den Verkehrsbetrieben Karlsruhe GmbH (VBK) statt. Als einer der bedeutendsten Mobilitätskongresse in Deutschland zieht die Veranstaltung jährlich rund 900 Teilnehmende aus Politik\, Wirtschaft\, Wissenschaft und der Verkehrsbranche an. \nDie Jahrestagung 2026 rückt Erfolgsfaktoren für die Transformation der Branche in den Fokus. Der öffentliche Nahverkehr und die Eisenbahn brauchen schnelle und skalierbare Lösungen – von neuen Technologien und moderner Infrastruktur bis hin zu neuen Finanzierungsansätzen und einer zeitgemäßen Regulierung.\nKarlsruhe steht wie kaum eine andere Region für Fortschritt\, Technologie und Vernetzung im öffentlichen Verkehr: von TramTrain bis zu digitalisierten Verkehrsmanagementsystemen und Reallaboren autonomer Mobilität. \nDas geplante Programm der VDV-Jahrestagung bietet inspirierende Keynotes\, spannende Diskussionsrunden und praxisnahe Impulse zu den wichtigsten verkehrspolitischen und branchenrelevanten Themen. Die Tagung ist die ideale Plattform\, um sich mit führenden Köpfen und Entscheidungstragenden zu vernetzen und gemeinsam zu diskutieren. \nWeitere Informationen unter https://www.vdv.de/vdv-jahrestagung.aspx
URL:https://ae-network.de/event/vdv-jahrestagung/
LOCATION:Karlsruhe
CATEGORIES:Extern
END:VEVENT
END:VCALENDAR